BEGIN:VCALENDAR
VERSION:2.0
PRODID:-//hacksw/handcal//NONSGML v1.0//EN
BEGIN:VEVENT
DTSTAMP:20220419T173000Z
DTSTART:20220419T173000Z
DTEND:20220419T173000Z
SUMMARY:BV Haddeby JHV mit Johannes Callsen MdL
END:VEVENT
END:VCALENDAR
