BEGIN:VCALENDAR
VERSION:2.0
PRODID:-//hacksw/handcal//NONSGML v1.0//EN
BEGIN:VEVENT
DTSTAMP:20220409T150000Z
DTSTART:20220409T150000Z
DTEND:20220409T163000Z
SUMMARY:OV Wanderup, Großenwiehe, Handewitt, Jerrishoe, Eggebek und Tarp
END:VEVENT
END:VCALENDAR
