BEGIN:VCALENDAR
VERSION:2.0
PRODID:-//hacksw/handcal//NONSGML v1.0//EN
BEGIN:VEVENT
DTSTAMP:20220404T130000Z
DTSTART:20220404T130000Z
DTEND:20220404T143000Z
SUMMARY:Senioren-Union Schleswig und Umland JHV mit Johannes Callsen MdL
END:VEVENT
END:VCALENDAR
