BEGIN:VCALENDAR
VERSION:2.0
PRODID:-//hacksw/handcal//NONSGML v1.0//EN
BEGIN:VEVENT
DTSTAMP:20220331T163000Z
DTSTART:20220331T163000Z
DTEND:20220331T180000Z
SUMMARY:AV Geltinger Bucht JHV mit Johannes Callsen MdL
END:VEVENT
END:VCALENDAR
