BEGIN:VCALENDAR
VERSION:2.0
PRODID:-//hacksw/handcal//NONSGML v1.0//EN
BEGIN:VEVENT
DTSTAMP:20211103T190000Z
DTSTART:20211103T190000Z
DTEND:20211103T203000Z
SUMMARY:OV Twedt JHV mit Wahlen, mit dabei Dr. Sabine Sütterlin-Waack
END:VEVENT
END:VCALENDAR
