BEGIN:VCALENDAR
VERSION:2.0
PRODID:-//hacksw/handcal//NONSGML v1.0//EN
BEGIN:VEVENT
DTSTAMP:20210920T163000Z
DTSTART:20210920T163000Z
DTEND:20210920T190000Z
SUMMARY:OV Husby-Maasbüll-Hürup, JHV mit Wahlen und Andreas Hein, MdL
END:VEVENT
END:VCALENDAR
