BEGIN:VCALENDAR
VERSION:2.0
PRODID:-//hacksw/handcal//NONSGML v1.0//EN
BEGIN:VEVENT
DTSTAMP:20210913T170000Z
DTSTART:20210913T170000Z
DTEND:20210913T190000Z
SUMMARY:OV Erfde, JHV mit Wahlen
END:VEVENT
END:VCALENDAR
