BEGIN:VCALENDAR
VERSION:2.0
PRODID:-//hacksw/handcal//NONSGML v1.0//EN
BEGIN:VEVENT
DTSTAMP:20210920T063000Z
DTSTART:20210920T063000Z
DTEND:20210920T170000Z
SUMMARY:Senioren-Union Wiesharde, Bustagefahrt Holsteinische Schweiz
END:VEVENT
END:VCALENDAR
