BEGIN:VCALENDAR
VERSION:2.0
PRODID:-//hacksw/handcal//NONSGML v1.0//EN
BEGIN:VEVENT
DTSTAMP:20210906T170000Z
DTSTART:20210906T170000Z
DTEND:20210906T183000Z
SUMMARY:OV Bollingstedt-Gammellund - Jahreshauptversammlung
END:VEVENT
END:VCALENDAR
