BEGIN:VCALENDAR
VERSION:2.0
PRODID:-//hacksw/handcal//NONSGML v1.0//EN
BEGIN:VEVENT
DTSTAMP:20201110T130000Z
DTSTART:20201110T130000Z
DTEND:20201110T160000Z
SUMMARY:SU-Wiesharde, MV mit Siegfried Matlok
END:VEVENT
END:VCALENDAR
