BEGIN:VCALENDAR
VERSION:2.0
PRODID:-//hacksw/handcal//NONSGML v1.0//EN
BEGIN:VEVENT
DTSTAMP:20200330T043000Z
DTSTART:20200330T043000Z
DTEND:20200330T160000Z
SUMMARY:OV Husby-Maasbüll-Hürup, Begrünungsaktion
END:VEVENT
END:VCALENDAR
