BEGIN:VCALENDAR
VERSION:2.0
PRODID:-//hacksw/handcal//NONSGML v1.0//EN
BEGIN:VEVENT
DTSTAMP:20200316T183000Z
DTSTART:20200316T183000Z
DTEND:20200316T200000Z
SUMMARY:Abgesagt! BV Wanderup, Diskussion mit dem CDU-Fraktionsvorsitzenden 
END:VEVENT
END:VCALENDAR
