BEGIN:VCALENDAR
VERSION:2.0
PRODID:-//hacksw/handcal//NONSGML v1.0//EN
BEGIN:VEVENT
DTSTAMP:20200311T180000Z
DTSTART:20200311T180000Z
DTEND:20200311T200000Z
SUMMARY:Abgesagt! OV Schuby-Lürschau, Info-Abend  zum Thema Wasserstoff
END:VEVENT
END:VCALENDAR
