BEGIN:VCALENDAR
VERSION:2.0
PRODID:-//hacksw/handcal//NONSGML v1.0//EN
BEGIN:VEVENT
DTSTAMP:20200223T100000Z
DTSTART:20200223T100000Z
DTEND:20200223T120000Z
SUMMARY:BV Mittelangeln, Neujahrsbrunch/Grünkohlessen mit Sabine Sütterlin-Waack
END:VEVENT
END:VCALENDAR
