BEGIN:VCALENDAR
VERSION:2.0
PRODID:-//hacksw/handcal//NONSGML v1.0//EN
BEGIN:VEVENT
DTSTAMP:20200218T180000Z
DTSTART:20200218T180000Z
DTEND:20200218T200000Z
SUMMARY:OV Langballig, JHV mit Vorstandswahlen
END:VEVENT
END:VCALENDAR
