BEGIN:VCALENDAR
VERSION:2.0
PRODID:-//hacksw/handcal//NONSGML v1.0//EN
BEGIN:VEVENT
DTSTAMP:20200129T173000Z
DTSTART:20200129T173000Z
DTEND:20200129T190000Z
SUMMARY:OV Harrislee, Bürgersprechstunde
END:VEVENT
END:VCALENDAR
