BEGIN:VCALENDAR
VERSION:2.0
PRODID:-//hacksw/handcal//NONSGML v1.0//EN
BEGIN:VEVENT
DTSTAMP:20200106T140000Z
DTSTART:20200106T140000Z
DTEND:20200106T160000Z
SUMMARY:Senioren-Union Schleswig, Stammtisch mit Bildern von Uwe Lorenzen
END:VEVENT
END:VCALENDAR
