BEGIN:VCALENDAR
VERSION:2.0
PRODID:-//hacksw/handcal//NONSGML v1.0//EN
BEGIN:VEVENT
DTSTAMP:20191202T140000Z
DTSTART:20191202T140000Z
DTEND:20191202T160000Z
SUMMARY:Senioren-Union Schleswig, Stammtisch mit Wolfgang Börnsen, MdB a.D.
END:VEVENT
END:VCALENDAR
