BEGIN:VCALENDAR
VERSION:2.0
PRODID:-//hacksw/handcal//NONSGML v1.0//EN
BEGIN:VEVENT
DTSTAMP:20191128T190000Z
DTSTART:20191128T190000Z
DTEND:20191128T203000Z
SUMMARY:OV Süderbrarup, JHV mit Wahlen
END:VEVENT
END:VCALENDAR
