BEGIN:VCALENDAR
VERSION:2.0
PRODID:-//hacksw/handcal//NONSGML v1.0//EN
BEGIN:VEVENT
DTSTAMP:20191129T173000Z
DTSTART:20191129T173000Z
DTEND:20191129T190000Z
SUMMARY:KV Junge Union, Kreisverbandstag
END:VEVENT
END:VCALENDAR
