BEGIN:VCALENDAR
VERSION:2.0
PRODID:-//hacksw/handcal//NONSGML v1.0//EN
BEGIN:VEVENT
DTSTAMP:20191107T114500Z
DTSTART:20191107T114500Z
DTEND:20191107T160000Z
SUMMARY:SU Wiesharde, Besuch des Kreishauses
END:VEVENT
END:VCALENDAR
