BEGIN:VCALENDAR
VERSION:2.0
PRODID:-//hacksw/handcal//NONSGML v1.0//EN
BEGIN:VEVENT
DTSTAMP:20191007T130000Z
DTSTART:20191007T130000Z
DTEND:20191007T150000Z
SUMMARY:Senioiren-Union Schleswig, Stammtisch mit Christian Liesegang
END:VEVENT
END:VCALENDAR
