BEGIN:VCALENDAR
VERSION:2.0
PRODID:-//hacksw/handcal//NONSGML v1.0//EN
BEGIN:VEVENT
DTSTAMP:20191128T183000Z
DTSTART:20191128T183000Z
DTEND:20191128T200000Z
SUMMARY:OV Glücksburg, 38. Glücksburger Stadtgespräch
END:VEVENT
END:VCALENDAR
