BEGIN:VCALENDAR
VERSION:2.0
PRODID:-//hacksw/handcal//NONSGML v1.0//EN
BEGIN:VEVENT
DTSTAMP:20190925T163000Z
DTSTART:20190925T163000Z
DTEND:20190925T190000Z
SUMMARY:OV Busdorf-Selk, Sommertreff
END:VEVENT
END:VCALENDAR
