BEGIN:VCALENDAR
VERSION:2.0
PRODID:-//hacksw/handcal//NONSGML v1.0//EN
BEGIN:VEVENT
DTSTAMP:20190831T140000Z
DTSTART:20190831T140000Z
DTEND:20190831T180000Z
SUMMARY:OV Wees, Grillen
END:VEVENT
END:VCALENDAR
