BEGIN:VCALENDAR
VERSION:2.0
PRODID:-//hacksw/handcal//NONSGML v1.0//EN
BEGIN:VEVENT
DTSTAMP:20190823T160000Z
DTSTART:20190823T160000Z
DTEND:20190823T190000Z
SUMMARY:OV Langballig, Radtour und Grillen
END:VEVENT
END:VCALENDAR
