BEGIN:VCALENDAR
VERSION:2.0
PRODID:-//hacksw/handcal//NONSGML v1.0//EN
BEGIN:VEVENT
DTSTAMP:20190823T170000Z
DTSTART:20190823T170000Z
DTEND:20190823T170000Z
SUMMARY:OV Harrislee: Reisebericht aus den USA im Hotel Wassersleben
END:VEVENT
END:VCALENDAR
