BEGIN:VCALENDAR
VERSION:2.0
PRODID:-//hacksw/handcal//NONSGML v1.0//EN
BEGIN:VEVENT
DTSTAMP:20190605T170000Z
DTSTART:20190605T170000Z
DTEND:20190605T183000Z
SUMMARY:BV Mittelangeln, Besichtigung der Fa. Henning Molzen GmbH
END:VEVENT
END:VCALENDAR
