BEGIN:VCALENDAR
VERSION:2.0
PRODID:-//hacksw/handcal//NONSGML v1.0//EN
BEGIN:VEVENT
DTSTAMP:20190511T110000Z
DTSTART:20190511T110000Z
DTEND:20190511T170000Z
SUMMARY:OV Sörup, Ausflugsfahrt nach Friedrichstadt
END:VEVENT
END:VCALENDAR
