BEGIN:VCALENDAR
VERSION:2.0
PRODID:-//hacksw/handcal//NONSGML v1.0//EN
BEGIN:VEVENT
DTSTAMP:20190412T170000Z
DTSTART:20190412T170000Z
DTEND:20190412T190000Z
SUMMARY:OV Busdorf-Selk, Jahreshauptversammlung mit Wahlen
END:VEVENT
END:VCALENDAR
