BEGIN:VCALENDAR
VERSION:2.0
PRODID:-//hacksw/handcal//NONSGML v1.0//EN
BEGIN:VEVENT
DTSTAMP:20190327T133000Z
DTSTART:20190327T133000Z
DTEND:20190327T160000Z
SUMMARY:Senioren-Union Wiesharde, Info-Veranstaltung mit Petra Nicolaisen, MdB
END:VEVENT
END:VCALENDAR
