BEGIN:VCALENDAR
VERSION:2.0
PRODID:-//hacksw/handcal//NONSGML v1.0//EN
BEGIN:VEVENT
DTSTAMP:20190203T100000Z
DTSTART:20190203T100000Z
DTEND:20190203T120000Z
SUMMARY:OV Eggebek, Stammtisch
END:VEVENT
END:VCALENDAR
