BEGIN:VCALENDAR
VERSION:2.0
PRODID:-//hacksw/handcal//NONSGML v1.0//EN
BEGIN:VEVENT
DTSTAMP:20190204T140000Z
DTSTART:20190204T140000Z
DTEND:20190204T160000Z
SUMMARY:Senioren-Union Schleswig, Stammtisch
END:VEVENT
END:VCALENDAR
