BEGIN:VCALENDAR
VERSION:2.0
PRODID:-//hacksw/handcal//NONSGML v1.0//EN
BEGIN:VEVENT
DTSTAMP:20190117T183000Z
DTSTART:20190117T183000Z
DTEND:20190117T200000Z
SUMMARY:OV Kropp, Jahreshauptversammlung mit Andreas Hein, MdL
END:VEVENT
END:VCALENDAR
