BEGIN:VCALENDAR
VERSION:2.0
PRODID:-//hacksw/handcal//NONSGML v1.0//EN
BEGIN:VEVENT
DTSTAMP:20181208T133000Z
DTSTART:20181208T133000Z
DTEND:20181208T160000Z
SUMMARY:OV Harrislee, Weihnachtsfeier
END:VEVENT
END:VCALENDAR
