BEGIN:VCALENDAR
VERSION:2.0
PRODID:-//hacksw/handcal//NONSGML v1.0//EN
BEGIN:VEVENT
DTSTAMP:20181028T083000Z
DTSTART:20181028T083000Z
DTEND:20181028T110000Z
SUMMARY:OV Bergenhusen, Skatpunktrunde
END:VEVENT
END:VCALENDAR
