BEGIN:VCALENDAR
VERSION:2.0
PRODID:-//hacksw/handcal//NONSGML v1.0//EN
BEGIN:VEVENT
DTSTAMP:20190327T180000Z
DTSTART:20190327T180000Z
DTEND:20190327T210000Z
SUMMARY:BV Süderbrarup, Preisskat
END:VEVENT
END:VCALENDAR
