BEGIN:VCALENDAR
VERSION:2.0
PRODID:-//hacksw/handcal//NONSGML v1.0//EN
BEGIN:VEVENT
DTSTAMP:20180824T140000Z
DTSTART:20180824T140000Z
DTEND:20180824T190000Z
SUMMARY:OV Fahrdorf, Fahrradtour und Grillen
END:VEVENT
END:VCALENDAR
