BEGIN:VCALENDAR
VERSION:2.0
PRODID:-//hacksw/handcal//NONSGML v1.0//EN
BEGIN:VEVENT
DTSTAMP:20180826T140000Z
DTSTART:20180826T140000Z
DTEND:20180826T180000Z
SUMMARY:KV Junge Union, Kreisverbandsausschuss und Sommerfest
END:VEVENT
END:VCALENDAR
