BEGIN:VCALENDAR
VERSION:2.0
PRODID:-//hacksw/handcal//NONSGML v1.0//EN
BEGIN:VEVENT
DTSTAMP:20180901T120000Z
DTSTART:20180901T120000Z
DTEND:20180901T150000Z
SUMMARY:OV Glücksburg, "politische Fahrradtour" durch Glücksburg
END:VEVENT
END:VCALENDAR
