BEGIN:VCALENDAR
VERSION:2.0
PRODID:-//hacksw/handcal//NONSGML v1.0//EN
BEGIN:VEVENT
DTSTAMP:20180921T050000Z
DTSTART:20180921T050000Z
DTEND:20180923T150000Z
SUMMARY:BV Stapelholm, Reise ins Emsland
END:VEVENT
END:VCALENDAR
