BEGIN:VCALENDAR
VERSION:2.0
PRODID:-//hacksw/handcal//NONSGML v1.0//EN
BEGIN:VEVENT
DTSTAMP:20180430T173000Z
DTSTART:20180430T173000Z
DTEND:20180430T190000Z
SUMMARY:OV Hasselberg, Nachwahl eines Kandidaten
END:VEVENT
END:VCALENDAR
