BEGIN:VCALENDAR
VERSION:2.0
PRODID:-//hacksw/handcal//NONSGML v1.0//EN
BEGIN:VEVENT
DTSTAMP:20180502T173000Z
DTSTART:20180502T173000Z
DTEND:20180502T190000Z
SUMMARY:OV Süderbrarup, Kommunal-Stammtisch
END:VEVENT
END:VCALENDAR
