BEGIN:VCALENDAR
VERSION:2.0
PRODID:-//hacksw/handcal//NONSGML v1.0//EN
BEGIN:VEVENT
DTSTAMP:20180421T163000Z
DTSTART:20180421T163000Z
DTEND:20180421T180000Z
SUMMARY:OV Bollingstedt-Gammellund, Veranstaltung für Erstwähler
END:VEVENT
END:VCALENDAR
