BEGIN:VCALENDAR
VERSION:2.0
PRODID:-//hacksw/handcal//NONSGML v1.0//EN
BEGIN:VEVENT
DTSTAMP:20180424T170000Z
DTSTART:20180424T170000Z
DTEND:20180424T190000Z
SUMMARY:OV Böklund, Politischer Klönschnack mit Johannes Callsen, MdL u.a.
END:VEVENT
END:VCALENDAR
