BEGIN:VCALENDAR
VERSION:2.0
PRODID:-//hacksw/handcal//NONSGML v1.0//EN
BEGIN:VEVENT
DTSTAMP:20180417T173000Z
DTSTART:20180417T173000Z
DTEND:20180417T190000Z
SUMMARY:OV Sörup, Info-Veranstatung mit Minister Hans-Joachim Grote
END:VEVENT
END:VCALENDAR
