BEGIN:VCALENDAR
VERSION:2.0
PRODID:-//hacksw/handcal//NONSGML v1.0//EN
BEGIN:VEVENT
DTSTAMP:20180406T143000Z
DTSTART:20180406T143000Z
DTEND:20180406T160000Z
SUMMARY:OV Steinbergkirche/Quern, Besichtigung Fa. Swoboda
END:VEVENT
END:VCALENDAR
