BEGIN:VCALENDAR
VERSION:2.0
PRODID:-//hacksw/handcal//NONSGML v1.0//EN
BEGIN:VEVENT
DTSTAMP:20180712T220000Z
DTSTART:20180712T220000Z
DTEND:20180715T160000Z
SUMMARY:BV Wanderup, Mitgliederreise nach Sylt
END:VEVENT
END:VCALENDAR
