BEGIN:VCALENDAR
VERSION:2.0
PRODID:-//hacksw/handcal//NONSGML v1.0//EN
BEGIN:VEVENT
DTSTAMP:20180413T123000Z
DTSTART:20180413T123000Z
DTEND:20180413T140000Z
SUMMARY:BV Amt Geltinger Bucht, Schleifahrt mit Ministerpräsident Daniel Günther
END:VEVENT
END:VCALENDAR
