BEGIN:VCALENDAR
VERSION:2.0
PRODID:-//hacksw/handcal//NONSGML v1.0//EN
BEGIN:VEVENT
DTSTAMP:20180321T190000Z
DTSTART:20180321T190000Z
DTEND:20180321T203000Z
SUMMARY:OV Bollingstedt-Gammellund, Mitgliederversammlung
END:VEVENT
END:VCALENDAR
